BEGIN:VCALENDAR
VERSION:2.0
CALSCALE:GREGORIAN
METHOD:PUBLISH
PRODID://IAWA//212673
BEGIN:VEVENT
DTSTAMP:20260423T102502
VTIMEZONE:America/New_York
DTSTART:20260521T210000Z
DTEND:20260521T230000Z
UID:212673
SUMMARY:IAWA DC Connect
LOCATION:Dirty Habit, 555 8th St NW, Washington DC, 20004
DESCRIPTION:IAWA DC Connect\n\n05/21/26 05:00 PM EST\n - 05/21/26 07:00 PM EST\Description:\nPlease join IAWA Members, Advocates, and friends to network and connect with our dynamic DC-based IAWA community! Attendees are responsible for covering their own food and beverage.\Location:\nDirty Habit\n555 8th St NW\nWashington DC,  20004
X-ALT-DESC;FMTTYPE=text/html:IAWA DC Connect<br /><br />05/21/26 05:00 PM EST - 05/21/26 07:00 PM EST<br />Description:<br />Please join IAWA Members, Advocates, and friends to network and connect with our dynamic DC-based IAWA community! Attendees are responsible for covering their own food and beverage.<br />Location:<br />Dirty Habit<br />555 8th St NW<br />Washington DC,  20004
PRIORITY:3
TRANSP:TRANSPARENT
BEGIN:VALARM
TRIGGER:-PT5M
ACTION:DISPLAY
DESCRIPTION:Reminder
END:VALARM
END:VEVENT
END:VCALENDAR
